BEGIN:VCALENDAR
VERSION:2.0
PRODID:-//OselaSF - ECPv6.15.18//NONSGML v1.0//EN
CALSCALE:GREGORIAN
METHOD:PUBLISH
X-ORIGINAL-URL:https://oselasf.org
X-WR-CALDESC:Évènements pour OselaSF
REFRESH-INTERVAL;VALUE=DURATION:PT1H
X-Robots-Tag:noindex
X-PUBLISHED-TTL:PT1H
BEGIN:VTIMEZONE
TZID:Europe/Paris
BEGIN:DAYLIGHT
TZOFFSETFROM:+0100
TZOFFSETTO:+0200
TZNAME:CEST
DTSTART:20250330T010000
END:DAYLIGHT
BEGIN:STANDARD
TZOFFSETFROM:+0200
TZOFFSETTO:+0100
TZNAME:CET
DTSTART:20251026T010000
END:STANDARD
BEGIN:DAYLIGHT
TZOFFSETFROM:+0100
TZOFFSETTO:+0200
TZNAME:CEST
DTSTART:20260329T010000
END:DAYLIGHT
BEGIN:STANDARD
TZOFFSETFROM:+0200
TZOFFSETTO:+0100
TZNAME:CET
DTSTART:20261025T010000
END:STANDARD
BEGIN:DAYLIGHT
TZOFFSETFROM:+0100
TZOFFSETTO:+0200
TZNAME:CEST
DTSTART:20270328T010000
END:DAYLIGHT
BEGIN:STANDARD
TZOFFSETFROM:+0200
TZOFFSETTO:+0100
TZNAME:CET
DTSTART:20271031T010000
END:STANDARD
END:VTIMEZONE
BEGIN:VEVENT
DTSTART;TZID=Europe/Paris:20260709T000000
DTEND;TZID=Europe/Paris:20260712T235959
DTSTAMP:20260422T140618
CREATED:20250730T192919Z
LAST-MODIFIED:20250823T143954Z
UID:961-1783555200-1783900799@oselasf.org
SUMMARY:Xucon 4.0
DESCRIPTION:La 53e Convention nationale francophone de science-fictionSur 4 jours\, du jeudi 9 au dimanche 12 juillet 2026\n\n\n\n\n\n\n\n\n\n\n\n\n\n\n\nRenseignements : \n\n\n\nLa convention annuelle de SF francophone prend place en 2026 pour la quatrième fois en Belgique dans la commune d’Esneux (Xuense pour les fans)… d’où son nom de XuCon IV. \n\n\n\nLe château Brunsode a accueilli les trois précédentes conventions de Xuense en 2002\, 2005 et 2011. Le parc du château est ouvert aux promeneurs.Ce domaine est situé à 200 mètres du centre-ville de Tilff\, qui comprend des commerces\, restaurants et cafés-brasseries. \n\n\n\n \n\n\n\n\n\nLocalisation : \n\n\n\n\n\nDétails pratiques : \n\n\n\n\n\n\n\nDifférents tarifs sont proposés.Les prix des repas en commun sont en sus.
URL:https://oselasf.org/evenement/xucon-4-0/
LOCATION:Château Brunsode\, Esneux\, 4130\, Belgium
CATEGORIES:Convention FR
ATTACH;FMTTYPE=image/png:https://oselasf.org/wp-content/uploads/2025/07/Capture-decran-2025-07-29-a-20.57.12.png
END:VEVENT
END:VCALENDAR