BEGIN:VCALENDAR
VERSION:2.0
PRODID:-//OselaSF - ECPv6.15.18//NONSGML v1.0//EN
CALSCALE:GREGORIAN
METHOD:PUBLISH
X-WR-CALNAME:OselaSF
X-ORIGINAL-URL:https://oselasf.org
X-WR-CALDESC:Évènements pour OselaSF
REFRESH-INTERVAL;VALUE=DURATION:PT1H
X-Robots-Tag:noindex
X-PUBLISHED-TTL:PT1H
BEGIN:VTIMEZONE
TZID:Europe/Paris
BEGIN:DAYLIGHT
TZOFFSETFROM:+0100
TZOFFSETTO:+0200
TZNAME:CEST
DTSTART:20240331T010000
END:DAYLIGHT
BEGIN:STANDARD
TZOFFSETFROM:+0200
TZOFFSETTO:+0100
TZNAME:CET
DTSTART:20241027T010000
END:STANDARD
BEGIN:DAYLIGHT
TZOFFSETFROM:+0100
TZOFFSETTO:+0200
TZNAME:CEST
DTSTART:20250330T010000
END:DAYLIGHT
BEGIN:STANDARD
TZOFFSETFROM:+0200
TZOFFSETTO:+0100
TZNAME:CET
DTSTART:20251026T010000
END:STANDARD
BEGIN:DAYLIGHT
TZOFFSETFROM:+0100
TZOFFSETTO:+0200
TZNAME:CEST
DTSTART:20260329T010000
END:DAYLIGHT
BEGIN:STANDARD
TZOFFSETFROM:+0200
TZOFFSETTO:+0100
TZNAME:CET
DTSTART:20261025T010000
END:STANDARD
END:VTIMEZONE
BEGIN:VEVENT
DTSTART;TZID=Europe/Paris:20250821T000000
DTEND;TZID=Europe/Paris:20250824T235959
DTSTAMP:20260422T130549
CREATED:20250730T171958Z
LAST-MODIFIED:20250730T200136Z
UID:939-1755734400-1756079999@oselasf.org
SUMMARY:Saintycon
DESCRIPTION:La 52e Convention nationale francophone de science-fictionSur 4 jours\, du jeudi 21 au dimanche 24 août 2025\n\n\n\n\n\n\n\nRenseignements : \n\n\n\nLa convention se déroule à Saint-Ay (prononcez : « Sainti »)\, commune proche d’Orléans\, sur la route de Blois vers Meung-sur-Loire (prononcez : « Main »). \n\n\n\nLes invités sont Catherine Dufour\, Estelle Faye\, Laurent Genefort\, Philippe Jozelon\, Christine Luce et Jean-Louis Marcastel. \n\n\n\nRabelais y écrivit le Tiers-livre\, chez son ami Etienne Lorenz.François Villon fut incarcéré au château voisin de Meung-sur-Loire\, résidence d’été des évêques d’Orléans\, et il y écrivit (très probablement) la « Balade des pendus ».Les bords de Loire font partie du Val-de-Loire\, classée au patrimoine mondial de l’Unesco. \n\n\n\n\n\n\n\nOrganisation :
URL:https://oselasf.org/evenement/saintycon/
LOCATION:Salle François Villon\, 24\, rue Métairie\, Saint-Ay\, 45130\, France
CATEGORIES:Convention FR
ATTACH;FMTTYPE=image/png:https://oselasf.org/wp-content/uploads/2025/07/Capture-decran-2025-07-29-a-20.42.57-e1753821630271.png
ORGANIZER;CN="Les Orl%C3%A9onautes":MAILTO:orleonautes@orange.fr
END:VEVENT
END:VCALENDAR